BEGIN:VCALENDAR
VERSION:2.0
PRODID:-//American Haflinger Registry - ECPv6.15.20//NONSGML v1.0//EN
CALSCALE:GREGORIAN
METHOD:PUBLISH
X-WR-CALNAME:American Haflinger Registry
X-ORIGINAL-URL:https://festive-kare.51-81-46-206.plesk.page
X-WR-CALDESC:Events for American Haflinger Registry
REFRESH-INTERVAL;VALUE=DURATION:PT1H
X-Robots-Tag:noindex
X-PUBLISHED-TTL:PT1H
BEGIN:VTIMEZONE
TZID:America/Detroit
BEGIN:DAYLIGHT
TZOFFSETFROM:-0500
TZOFFSETTO:-0400
TZNAME:EDT
DTSTART:20220313T070000
END:DAYLIGHT
BEGIN:STANDARD
TZOFFSETFROM:-0400
TZOFFSETTO:-0500
TZNAME:EST
DTSTART:20221106T060000
END:STANDARD
BEGIN:DAYLIGHT
TZOFFSETFROM:-0500
TZOFFSETTO:-0400
TZNAME:EDT
DTSTART:20230312T070000
END:DAYLIGHT
BEGIN:STANDARD
TZOFFSETFROM:-0400
TZOFFSETTO:-0500
TZNAME:EST
DTSTART:20231105T060000
END:STANDARD
BEGIN:DAYLIGHT
TZOFFSETFROM:-0500
TZOFFSETTO:-0400
TZNAME:EDT
DTSTART:20240310T070000
END:DAYLIGHT
BEGIN:STANDARD
TZOFFSETFROM:-0400
TZOFFSETTO:-0500
TZNAME:EST
DTSTART:20241103T060000
END:STANDARD
END:VTIMEZONE
BEGIN:VEVENT
DTSTART;VALUE=DATE:20230722
DTEND;VALUE=DATE:20230724
DTSTAMP:20260421T054537
CREATED:20230216T145604Z
LAST-MODIFIED:20230217T134044Z
UID:3223-1689984000-1690156799@festive-kare.51-81-46-206.plesk.page
SUMMARY:Derrer Ranch Classic
DESCRIPTION:
URL:https://festive-kare.51-81-46-206.plesk.page/event/derrer-ranch-classic/
LOCATION:Topeka Livestock Auction\, 601 E Lake St\, Topeka\, IN\, 46571\, United States
CATEGORIES:Shows & Events
ATTACH;FMTTYPE=image/jpeg:https://festive-kare.51-81-46-206.plesk.page/wp-content/uploads/2023/02/derrer-1.jpg
END:VEVENT
BEGIN:VEVENT
DTSTART;VALUE=DATE:20230707
DTEND;VALUE=DATE:20230710
DTSTAMP:20260421T054537
CREATED:20230216T150523Z
LAST-MODIFIED:20230216T205635Z
UID:3233-1688688000-1688947199@festive-kare.51-81-46-206.plesk.page
SUMMARY:National Dressage Pony Cup
DESCRIPTION:
URL:https://festive-kare.51-81-46-206.plesk.page/event/national-dressage-pony-cup/
LOCATION:World Equestrian Center\, 4095 OH-730\, Wilmington\, OH\, 45177\, United States
CATEGORIES:Shows & Events
ATTACH;FMTTYPE=image/jpeg:https://festive-kare.51-81-46-206.plesk.page/wp-content/uploads/2020/10/BlurbAmbassador.jpg
ORGANIZER;CN="National Dressage Pony Cup":MAILTO:info@DressagePonyCup.com
END:VEVENT
BEGIN:VEVENT
DTSTART;VALUE=DATE:20230707
DTEND;VALUE=DATE:20230710
DTSTAMP:20260421T054537
CREATED:20201005T165323Z
LAST-MODIFIED:20230217T133206Z
UID:897-1688688000-1688947199@festive-kare.51-81-46-206.plesk.page
SUMMARY:Great Lakes Haflinger Association Show
DESCRIPTION:
URL:https://festive-kare.51-81-46-206.plesk.page/event/great-lakes-haflinger-association-show/
LOCATION:Allen County Fairgrounds\, 2750 Harding Hwy\, Lima\, OH\, 45804\, United States
CATEGORIES:Shows & Events
ATTACH;FMTTYPE=image/jpeg:https://festive-kare.51-81-46-206.plesk.page/wp-content/uploads/2020/10/glha-1.jpg
END:VEVENT
BEGIN:VEVENT
DTSTART;VALUE=DATE:20230630
DTEND;VALUE=DATE:20230703
DTSTAMP:20260421T054537
CREATED:20230216T141442Z
LAST-MODIFIED:20230217T132759Z
UID:3216-1688083200-1688342399@festive-kare.51-81-46-206.plesk.page
SUMMARY:Imperial Horse Show
DESCRIPTION:
URL:https://festive-kare.51-81-46-206.plesk.page/event/imperial-horse-show/
LOCATION:Champions Center\, 4122 Laybourne Rd\, Springfield\, OH\, 45505\, United States
CATEGORIES:Shows & Events
ATTACH;FMTTYPE=image/jpeg:https://festive-kare.51-81-46-206.plesk.page/wp-content/uploads/2023/02/imperial.jpg
ORGANIZER;CN="Buckeye Equestrian Events":MAILTO:horsejudge125@gmail.com
END:VEVENT
BEGIN:VEVENT
DTSTART;VALUE=DATE:20230616
DTEND;VALUE=DATE:20230619
DTSTAMP:20260421T054537
CREATED:20230216T140342Z
LAST-MODIFIED:20230217T130650Z
UID:3213-1686873600-1687132799@festive-kare.51-81-46-206.plesk.page
SUMMARY:Northeast Ohio Draft & Draft Pony Show
DESCRIPTION:
URL:https://festive-kare.51-81-46-206.plesk.page/event/northeast-ohio-draft-draft-pony-show/
LOCATION:Richland County Fairgrounds\, 750 N Home Rd\, Mansfield\, OH\, 44906\, United States
CATEGORIES:Shows & Events
ATTACH;FMTTYPE=image/jpeg:https://festive-kare.51-81-46-206.plesk.page/wp-content/uploads/2023/02/NorthOhio2.jpg
END:VEVENT
BEGIN:VEVENT
DTSTART;TZID=America/Detroit:20230609T080000
DTEND;TZID=America/Detroit:20230611T170000
DTSTAMP:20260421T054537
CREATED:20230216T135611Z
LAST-MODIFIED:20230217T130231Z
UID:3210-1686297600-1686502800@festive-kare.51-81-46-206.plesk.page
SUMMARY:Wilmington Classic Draft Horse Show
DESCRIPTION:
URL:https://festive-kare.51-81-46-206.plesk.page/event/wilmington-classic-draft-horse-show/
LOCATION:World Equestrian Center\, 4095 OH-730\, Wilmington\, OH\, 45177\, United States
CATEGORIES:Shows & Events
ATTACH;FMTTYPE=image/jpeg:https://festive-kare.51-81-46-206.plesk.page/wp-content/uploads/2023/02/wilmingtonawards.jpg
END:VEVENT
BEGIN:VEVENT
DTSTART;VALUE=DATE:20230505
DTEND;VALUE=DATE:20230508
DTSTAMP:20260421T054537
CREATED:20230330T175142Z
LAST-MODIFIED:20230330T175216Z
UID:3721-1683244800-1683503999@festive-kare.51-81-46-206.plesk.page
SUMMARY:Happy Haffy Open Horse Show
DESCRIPTION:Fuzzy Horse Show for\nHaffys AND Open for all breeds\n“Haffys” are registered and non-registered Haflingers\nBring your Haffys to compete with other Haffys!!!\n———————-\nHappy Haffy Open Horse Show May 5-7\, 2023\nat the MEC in Shipshewana\, Indiana\nReserve stalls NOW for early bird pricing!!\nText or call to reserve stalls – Cheri @ 248-467-9458\nFind sign-up and other info at: www.happyhaffyopenshow.com\nFull set of classes for: Haffys & Open for all other breeds\n•       26 Division Championships!\n•       Speed\, Pleasure & Jumping!\n•       Fun classes Saturday evening\n•       Lead Line & Walk Only classes
URL:https://festive-kare.51-81-46-206.plesk.page/event/happy-haffy-open-horse-show/
LOCATION:Michiana Event Center\, 455 E Farver St\, Shipshewana\, IN\, 46565\, United States
CATEGORIES:Shows & Events
ATTACH;FMTTYPE=image/jpeg:https://festive-kare.51-81-46-206.plesk.page/wp-content/uploads/2023/03/Happy-Halflinger-logo-copy.jpg
ORGANIZER;CN="Cheri Wallace":MAILTO:wallaceestatefarm@gmail.com
END:VEVENT
BEGIN:VEVENT
DTSTART;VALUE=DATE:20230324
DTEND;VALUE=DATE:20230326
DTSTAMP:20260421T054537
CREATED:20230216T134538Z
LAST-MODIFIED:20230216T201622Z
UID:3207-1679616000-1679788799@festive-kare.51-81-46-206.plesk.page
SUMMARY:Indiana Haflinger Horse Association Spring Sale
DESCRIPTION:
URL:https://festive-kare.51-81-46-206.plesk.page/event/indiana-haflinger-horse-association-spring-sale/
LOCATION:Topeka Livestock Auction\, 601 E Lake St\, Topeka\, IN\, 46571\, United States
CATEGORIES:Shows & Events
ATTACH;FMTTYPE=image/jpeg:https://festive-kare.51-81-46-206.plesk.page/wp-content/uploads/2023/02/heart-of-america-sale.jpg
END:VEVENT
END:VCALENDAR